BEGIN:VCALENDAR
VERSION:2.0
PRODID:-//Chariho Southern Baptist Church - ECPv4.9.13//NONSGML v1.0//EN
CALSCALE:GREGORIAN
METHOD:PUBLISH
X-WR-CALNAME:Chariho Southern Baptist Church
X-ORIGINAL-URL:https://www.charihosbc.org
X-WR-CALDESC:Events for Chariho Southern Baptist Church
BEGIN:VTIMEZONE
TZID:UTC
BEGIN:STANDARD
TZOFFSETFROM:+0000
TZOFFSETTO:+0000
TZNAME:UTC
DTSTART:20190101T000000
END:STANDARD
END:VTIMEZONE
BEGIN:VEVENT
DTSTART;TZID=UTC:20190720T080000
DTEND;TZID=UTC:20190720T160000
DTSTAMP:20260424T102718
CREATED:20190711T175620Z
LAST-MODIFIED:20190711T175620Z
UID:233-1563609600-1563638400@www.charihosbc.org
SUMMARY:Work Day
DESCRIPTION:We have several chores and projects throughout the Church. We are asking for volunteers to help bring our house of the Lord just a little brighter. Please sign up in the front lobby or you can just show up on this day of our Lord. \nWe hope to see you there. \n
URL:https://www.charihosbc.org/event/work-day/
ORGANIZER;CN="Adam%20Cornell":MAILTO:adamcornell34@yahoo.com
END:VEVENT
END:VCALENDAR