BEGIN:VCALENDAR
VERSION:2.0
PRODID:-//Chariho Southern Baptist Church - ECPv4.9.13//NONSGML v1.0//EN
CALSCALE:GREGORIAN
METHOD:PUBLISH
X-WR-CALNAME:Chariho Southern Baptist Church
X-ORIGINAL-URL:https://www.charihosbc.org
X-WR-CALDESC:Events for Chariho Southern Baptist Church
BEGIN:VTIMEZONE
TZID:UTC
BEGIN:STANDARD
TZOFFSETFROM:+0000
TZOFFSETTO:+0000
TZNAME:UTC
DTSTART:20190101T000000
END:STANDARD
END:VTIMEZONE
BEGIN:VEVENT
DTSTART;TZID=UTC:20190928T170000
DTEND;TZID=UTC:20190928T190000
DTSTAMP:20260424T114614
CREATED:20190711T175122Z
LAST-MODIFIED:20190713T004356Z
UID:230-1569690000-1569697200@www.charihosbc.org
SUMMARY:Sermonary Extension Graduation
DESCRIPTION:Please join us in celebration of our first graduating class. \nThe first graduating class of The Rhode Island Theological Institute is in the honor of Rev. Bobby Barnett\, founding Pastor of Chariho SBC \n
URL:https://www.charihosbc.org/event/sermonary-extension-graduation/
LOCATION:CSBC Sanctuary\, 123 Alton Bradford Rd\, Alton\, RI\, 02808\, United States
GEO:41.419548;-71.734922
X-APPLE-STRUCTURED-LOCATION;VALUE=URI;X-ADDRESS=CSBC Sanctuary 123 Alton Bradford Rd Alton RI 02808 United States;X-APPLE-RADIUS=500;X-TITLE=123 Alton Bradford Rd:geo:-71.734922,41.419548
END:VEVENT
END:VCALENDAR