BEGIN:VCALENDAR
VERSION:2.0
PRODID:-//Chariho Southern Baptist Church - ECPv4.9.13//NONSGML v1.0//EN
CALSCALE:GREGORIAN
METHOD:PUBLISH
X-WR-CALNAME:Chariho Southern Baptist Church
X-ORIGINAL-URL:https://www.charihosbc.org
X-WR-CALDESC:Events for Chariho Southern Baptist Church
BEGIN:VTIMEZONE
TZID:UTC
BEGIN:STANDARD
TZOFFSETFROM:+0000
TZOFFSETTO:+0000
TZNAME:UTC
DTSTART:20280101T000000
END:STANDARD
END:VTIMEZONE
BEGIN:VEVENT
DTSTART;TZID=UTC:20280423T084500
DTEND;TZID=UTC:20280423T214500
DTSTAMP:20260424T133036
CREATED:20190728T231204Z
LAST-MODIFIED:20190728T231204Z
UID:1485-1840092300-1840139100@www.charihosbc.org
SUMMARY:Bible Study for All Ages
DESCRIPTION:Come join us for Bible Study. The spiritual growth of Christians is very important to us here at CSBC. That is why we offer Bible study classes and Small Groups to help equip you on your lifelong journey in becoming the Christian person God created you to be. \n
URL:https://www.charihosbc.org/event/bible-study-for-all-ages/2028-04-23/
LOCATION:CSBC Class Room\, 80 A Alton-Bradford Rd.\, Bradford\, RI\, 02808\, United States
END:VEVENT
END:VCALENDAR